BEGIN:VCALENDAR
VERSION:2.0
PRODID:-//Telluride Science - ECPv6.15.15//NONSGML v1.0//EN
CALSCALE:GREGORIAN
METHOD:PUBLISH
X-WR-CALNAME:Telluride Science
X-ORIGINAL-URL:https://telluridescience.org
X-WR-CALDESC:Events for Telluride Science
REFRESH-INTERVAL;VALUE=DURATION:PT1H
X-Robots-Tag:noindex
X-PUBLISHED-TTL:PT1H
BEGIN:VTIMEZONE
TZID:America/Denver
BEGIN:DAYLIGHT
TZOFFSETFROM:-0700
TZOFFSETTO:-0600
TZNAME:MDT
DTSTART:20240310T090000
END:DAYLIGHT
BEGIN:STANDARD
TZOFFSETFROM:-0600
TZOFFSETTO:-0700
TZNAME:MST
DTSTART:20241103T080000
END:STANDARD
BEGIN:DAYLIGHT
TZOFFSETFROM:-0700
TZOFFSETTO:-0600
TZNAME:MDT
DTSTART:20250309T090000
END:DAYLIGHT
BEGIN:STANDARD
TZOFFSETFROM:-0600
TZOFFSETTO:-0700
TZNAME:MST
DTSTART:20251102T080000
END:STANDARD
BEGIN:DAYLIGHT
TZOFFSETFROM:-0700
TZOFFSETTO:-0600
TZNAME:MDT
DTSTART:20260308T090000
END:DAYLIGHT
BEGIN:STANDARD
TZOFFSETFROM:-0600
TZOFFSETTO:-0700
TZNAME:MST
DTSTART:20261101T080000
END:STANDARD
END:VTIMEZONE
BEGIN:VEVENT
DTSTART;TZID=America/Denver:20250603T183000
DTEND;TZID=America/Denver:20250603T193000
DTSTAMP:20260421T064645
CREATED:20250515T202637Z
LAST-MODIFIED:20250523T184740Z
UID:10000102-1748975400-1748979000@telluridescience.org
SUMMARY:Town Talk: Mining Plastic-Changing the Narrative from Waste to Resource
DESCRIPTION:Plastic waste is piling up\, with projections estimating 25 billion tons by 2050—most of it ending up in landfills or the environment. Traditional mechanical recycling falls short\, with only a tiny fraction of plastics truly recycled into similar products. This Town Talk challenges us to rethink plastic not as waste\, but as a valuable resource. Learn how chemists are working to “mine” used plastics for their chemical and energy potential\, turning trash into tools for a more sustainable future. \nThis Town Talk will be presented by Michael McGuirk\, Associate Professor of Chemistry at Colorado School of Mines.  \nTown Talks will be held on Tuesdays at the Telluride Conference Center in Mountain Village June 3 to August 12 (with the exception of July 1). Doors open at 6 pm and the program starts at 6:30 pm. Free and open to the public. \nThanks to our title sponsor Alpine Bank and Telluride Mountain Village Owner’s Association.
URL:https://telluridescience.org/event/town-talk-mining-plastic-changing-the-narrative-from-waste-to-resource/
LOCATION:Telluride Conference Center\, 580 Mountain Village Blvd\, Telluride\, CO\, 81435\, United States
CATEGORIES:Telluride Science Event
ATTACH;FMTTYPE=image/png:https://telluridescience.org/wp-content/uploads/2025/05/TT25_0603_1080-x-1080.png
END:VEVENT
END:VCALENDAR